BEGIN:VCALENDAR
VERSION:2.0
PRODID:-//Naturistföreningen Svanrevet - ECPv6.15.17.1//NONSGML v1.0//EN
CALSCALE:GREGORIAN
METHOD:PUBLISH
X-ORIGINAL-URL:https://solhejdan.se
X-WR-CALDESC:Händelser för Naturistföreningen Svanrevet
REFRESH-INTERVAL;VALUE=DURATION:PT1H
X-Robots-Tag:noindex
X-PUBLISHED-TTL:PT1H
BEGIN:VTIMEZONE
TZID:Europe/Paris
BEGIN:DAYLIGHT
TZOFFSETFROM:+0100
TZOFFSETTO:+0200
TZNAME:CEST
DTSTART:20250330T010000
END:DAYLIGHT
BEGIN:STANDARD
TZOFFSETFROM:+0200
TZOFFSETTO:+0100
TZNAME:CET
DTSTART:20251026T010000
END:STANDARD
BEGIN:DAYLIGHT
TZOFFSETFROM:+0100
TZOFFSETTO:+0200
TZNAME:CEST
DTSTART:20260329T010000
END:DAYLIGHT
BEGIN:STANDARD
TZOFFSETFROM:+0200
TZOFFSETTO:+0100
TZNAME:CET
DTSTART:20261025T010000
END:STANDARD
BEGIN:DAYLIGHT
TZOFFSETFROM:+0100
TZOFFSETTO:+0200
TZNAME:CEST
DTSTART:20270328T010000
END:DAYLIGHT
BEGIN:STANDARD
TZOFFSETFROM:+0200
TZOFFSETTO:+0100
TZNAME:CET
DTSTART:20271031T010000
END:STANDARD
END:VTIMEZONE
BEGIN:VEVENT
DTSTART;TZID=Europe/Paris:20260426T173000
DTEND;TZID=Europe/Paris:20260426T203000
DTSTAMP:20260423T011227
CREATED:20251211T163125Z
LAST-MODIFIED:20251220T221221Z
UID:1889-1777224600-1777235400@solhejdan.se
SUMMARY:Bad på Burlövsbadet
DESCRIPTION:Välkommen till det otroligt populära inomhusbadet för naturister. På dessa event samlas glada naturister i hundratal. NF Svanrevet abonnerar en söndag i månaden jan-april och okt-dec\, det helt nybyggda\, toppmoderna och superfräscha badhuset i Burlöv. \nVi får tillgång till barn pool med leksaker\, 50-meters motions bassäng\, undervisnings bassäng och en varm bassäng. I den varma bassängen dämpar vi belysningen och har valt en lila ton för spa-känsla. \n 
URL:https://solhejdan.se/event/bad-pa-burlovsbadet-4/
LOCATION:Burlövsbadet\, Badhusvägen 31\, Arlöv
CATEGORIES:Bad
ATTACH;FMTTYPE=image/jpeg:https://solhejdan.se/wp-content/uploads/2025/12/badparet.jpeg
END:VEVENT
BEGIN:VEVENT
DTSTART;VALUE=DATE:20260430
DTEND;VALUE=DATE:20260501
DTSTAMP:20260423T011227
CREATED:20251230T103134Z
LAST-MODIFIED:20251230T103750Z
UID:2041-1777507200-1777593599@solhejdan.se
SUMMARY:Solhejdans naturist camping öppnar för säsongen
DESCRIPTION:Vi öppnar campingen för gäster till Valborg 2026. \nBoknings sidan öppnar 1 april. \n 
URL:https://solhejdan.se/event/solhejdans-naturist-camping-oppnar-for-sasongen/
ATTACH;FMTTYPE=image/png:https://solhejdan.se/wp-content/uploads/2025/12/Solhejdan-oppnar.png
END:VEVENT
BEGIN:VEVENT
DTSTART;VALUE=DATE:20260619
DTEND;VALUE=DATE:20260620
DTSTAMP:20260423T011227
CREATED:20251212T131445Z
LAST-MODIFIED:20251230T212239Z
UID:1939-1781827200-1781913599@solhejdan.se
SUMMARY:Midsommarfirande på Solhejdan
DESCRIPTION:  \nDetta är den första av sommarens fyra stora fester. Mer information kommer senare.\n 
URL:https://solhejdan.se/event/midsommarfirande-pa-solhejdan/
ATTACH;FMTTYPE=image/png:https://solhejdan.se/wp-content/uploads/2025/12/Glad-midsommar-pa-Solhejdan-1-e1766262841863.png
END:VEVENT
BEGIN:VEVENT
DTSTART;VALUE=DATE:20260704
DTEND;VALUE=DATE:20260705
DTSTAMP:20260423T011227
CREATED:20251212T131651Z
LAST-MODIFIED:20251220T204227Z
UID:1941-1783123200-1783209599@solhejdan.se
SUMMARY:Vattenfest på Solhejdan
DESCRIPTION:  \nDetta är den andra av fyra stora fester på Solhejdan. Mer information kommer senare.
URL:https://solhejdan.se/event/vattenfesten-pa-solhejdan/
ATTACH;FMTTYPE=image/png:https://solhejdan.se/wp-content/uploads/2025/12/Vattenfest-pa-Solhejdan-e1766263336974.png
END:VEVENT
BEGIN:VEVENT
DTSTART;VALUE=DATE:20260718
DTEND;VALUE=DATE:20260719
DTSTAMP:20260423T011227
CREATED:20251212T131929Z
LAST-MODIFIED:20251220T204506Z
UID:1943-1784332800-1784419199@solhejdan.se
SUMMARY:Grillfest på Solhejdan
DESCRIPTION:  \nDetta är den tredje av fyra stora fester på Solhejdan. Mer information kommer senare.
URL:https://solhejdan.se/event/grillfest-pa-solhejdan/
ATTACH;FMTTYPE=image/png:https://solhejdan.se/wp-content/uploads/2025/12/Grisfest-pa-Solhejdan-e1766263495433.png
END:VEVENT
BEGIN:VEVENT
DTSTART;VALUE=DATE:20260801
DTEND;VALUE=DATE:20260802
DTSTAMP:20260423T011227
CREATED:20251212T132149Z
LAST-MODIFIED:20251220T204743Z
UID:1945-1785542400-1785628799@solhejdan.se
SUMMARY:Kräftskiva på Solhejdan
DESCRIPTION:  \nDetta är den fjärde av fyra stora fester på Solhejdan. Mer information kommer senare.
URL:https://solhejdan.se/event/kraftskiva-pa-solhejdan/
ATTACH;FMTTYPE=image/png:https://solhejdan.se/wp-content/uploads/2025/12/Kraftskiva-med-musik-pa-Solhejdan-e1766263652516.png
END:VEVENT
BEGIN:VEVENT
DTSTART;TZID=Europe/Paris:20260927T173000
DTEND;TZID=Europe/Paris:20260927T200000
DTSTAMP:20260423T011227
CREATED:20251212T022730Z
LAST-MODIFIED:20251220T221110Z
UID:1929-1790530200-1790539200@solhejdan.se
SUMMARY:Bad på Burlövs badet
DESCRIPTION:Välkommen till det otroligt populära inomhusbadet för naturister. På dessa event samlas glada naturister i hundratal. NF Svanrevet abonnerar en söndag i månaden jan-april och okt-dec\, det helt nybyggda\, toppmoderna och superfräscha badhuset i Burlöv. \nVi får tillgång till barn pool med leksaker\, 50-meters motions bassäng\, undervisnings bassäng och en varm bassäng. I den varma bassängen dämpar vi belysningen och har valt en lila ton för spa-känsla. \n 
URL:https://solhejdan.se/event/bad-pa-burlovs-badet/
CATEGORIES:Bad
ATTACH;FMTTYPE=image/jpeg:https://solhejdan.se/wp-content/uploads/2025/12/badparet.jpeg
END:VEVENT
BEGIN:VEVENT
DTSTART;TZID=Europe/Paris:20261025T173000
DTEND;TZID=Europe/Paris:20261025T203000
DTSTAMP:20260423T011227
CREATED:20251212T022514Z
LAST-MODIFIED:20251220T221354Z
UID:1927-1792949400-1792960200@solhejdan.se
SUMMARY:Bad på Burlövsbadet
DESCRIPTION:Välkommen till det otroligt populära inomhusbadet för naturister. På dessa event samlas glada naturister i hundratal. NF Svanrevet abonnerar en söndag i månaden jan-april och okt-dec\, det helt nybyggda\, toppmoderna och superfräscha badhuset i Burlöv. \nVi får tillgång till barn pool med leksaker\, 50-meters motions bassäng\, undervisnings bassäng och en varm bassäng. I den varma bassängen dämpar vi belysningen och har valt en lila ton för spa-känsla. \n 
URL:https://solhejdan.se/event/bad-pa-burlovsbadet-5/
LOCATION:Burlövsbadet\, Badhusvägen 31\, Arlöv
CATEGORIES:Bad
ATTACH;FMTTYPE=image/jpeg:https://solhejdan.se/wp-content/uploads/2025/12/badparet.jpeg
END:VEVENT
BEGIN:VEVENT
DTSTART;TZID=Europe/Paris:20261129T173000
DTEND;TZID=Europe/Paris:20261129T203000
DTSTAMP:20260423T011227
CREATED:20251212T022910Z
LAST-MODIFIED:20251220T221443Z
UID:1931-1795973400-1795984200@solhejdan.se
SUMMARY:Bad på Burlövsbadet
DESCRIPTION:Välkommen till det otroligt populära inomhusbadet för naturister. På dessa event samlas glada naturister i hundratal. NF Svanrevet abonnerar en söndag i månaden jan-april och okt-dec\, det helt nybyggda\, toppmoderna och superfräscha badhuset i Burlöv. \nVi får tillgång till barn pool med leksaker\, 50-meters motions bassäng\, undervisnings bassäng och en varm bassäng. I den varma bassängen dämpar vi belysningen och har valt en lila ton för spa-känsla. \n 
URL:https://solhejdan.se/event/bad-pa-burlovsbadet-6/
LOCATION:Burlövsbadet\, Badhusvägen 31\, Arlöv
CATEGORIES:Bad
ATTACH;FMTTYPE=image/jpeg:https://solhejdan.se/wp-content/uploads/2025/12/badparet.jpeg
END:VEVENT
BEGIN:VEVENT
DTSTART;TZID=Europe/Paris:20261213T173000
DTEND;TZID=Europe/Paris:20261213T203000
DTSTAMP:20260423T011227
CREATED:20251212T023055Z
LAST-MODIFIED:20251220T221531Z
UID:1933-1797183000-1797193800@solhejdan.se
SUMMARY:Bad på Burlövsbadet
DESCRIPTION:Välkommen till det otroligt populära inomhusbadet för naturister. På dessa event samlas glada naturister i hundratal. NF Svanrevet abonnerar en söndag i månaden jan-april och okt-dec\, det helt nybyggda\, toppmoderna och superfräscha badhuset i Burlöv. \nVi får tillgång till barn pool med leksaker\, 50-meters motions bassäng\, undervisnings bassäng och en varm bassäng. I den varma bassängen dämpar vi belysningen och har valt en lila ton för spa-känsla. \n 
URL:https://solhejdan.se/event/bad-pa-burlovsbadet-7/
LOCATION:Burlövsbadet\, Badhusvägen 31\, Arlöv
CATEGORIES:Bad
ATTACH;FMTTYPE=image/jpeg:https://solhejdan.se/wp-content/uploads/2025/12/badparet.jpeg
END:VEVENT
END:VCALENDAR