BEGIN:VCALENDAR
VERSION:2.0
PRODID:-//Naturistföreningen Svanrevet - ECPv6.15.17.1//NONSGML v1.0//EN
CALSCALE:GREGORIAN
METHOD:PUBLISH
X-ORIGINAL-URL:https://solhejdan.se
X-WR-CALDESC:Händelser för Naturistföreningen Svanrevet
REFRESH-INTERVAL;VALUE=DURATION:PT1H
X-Robots-Tag:noindex
X-PUBLISHED-TTL:PT1H
BEGIN:VTIMEZONE
TZID:Europe/Paris
BEGIN:DAYLIGHT
TZOFFSETFROM:+0100
TZOFFSETTO:+0200
TZNAME:CEST
DTSTART:20250330T010000
END:DAYLIGHT
BEGIN:STANDARD
TZOFFSETFROM:+0200
TZOFFSETTO:+0100
TZNAME:CET
DTSTART:20251026T010000
END:STANDARD
BEGIN:DAYLIGHT
TZOFFSETFROM:+0100
TZOFFSETTO:+0200
TZNAME:CEST
DTSTART:20260329T010000
END:DAYLIGHT
BEGIN:STANDARD
TZOFFSETFROM:+0200
TZOFFSETTO:+0100
TZNAME:CET
DTSTART:20261025T010000
END:STANDARD
BEGIN:DAYLIGHT
TZOFFSETFROM:+0100
TZOFFSETTO:+0200
TZNAME:CEST
DTSTART:20270328T010000
END:DAYLIGHT
BEGIN:STANDARD
TZOFFSETFROM:+0200
TZOFFSETTO:+0100
TZNAME:CET
DTSTART:20271031T010000
END:STANDARD
END:VTIMEZONE
BEGIN:VEVENT
DTSTART;VALUE=DATE:20260718
DTEND;VALUE=DATE:20260719
DTSTAMP:20260423T033626
CREATED:20251212T131929Z
LAST-MODIFIED:20251220T204506Z
UID:1943-1784332800-1784419199@solhejdan.se
SUMMARY:Grillfest på Solhejdan
DESCRIPTION:  \nDetta är den tredje av fyra stora fester på Solhejdan. Mer information kommer senare.
URL:https://solhejdan.se/event/grillfest-pa-solhejdan/
ATTACH;FMTTYPE=image/png:https://solhejdan.se/wp-content/uploads/2025/12/Grisfest-pa-Solhejdan-e1766263495433.png
END:VEVENT
END:VCALENDAR