BEGIN:VCALENDAR
VERSION:2.0
PRODID:-//Naturistföreningen Svanrevet - ECPv6.15.17.1//NONSGML v1.0//EN
CALSCALE:GREGORIAN
METHOD:PUBLISH
X-ORIGINAL-URL:https://solhejdan.se
X-WR-CALDESC:Händelser för Naturistföreningen Svanrevet
REFRESH-INTERVAL;VALUE=DURATION:PT1H
X-Robots-Tag:noindex
X-PUBLISHED-TTL:PT1H
BEGIN:VTIMEZONE
TZID:Europe/Paris
BEGIN:DAYLIGHT
TZOFFSETFROM:+0100
TZOFFSETTO:+0200
TZNAME:CEST
DTSTART:20250330T010000
END:DAYLIGHT
BEGIN:STANDARD
TZOFFSETFROM:+0200
TZOFFSETTO:+0100
TZNAME:CET
DTSTART:20251026T010000
END:STANDARD
BEGIN:DAYLIGHT
TZOFFSETFROM:+0100
TZOFFSETTO:+0200
TZNAME:CEST
DTSTART:20260329T010000
END:DAYLIGHT
BEGIN:STANDARD
TZOFFSETFROM:+0200
TZOFFSETTO:+0100
TZNAME:CET
DTSTART:20261025T010000
END:STANDARD
BEGIN:DAYLIGHT
TZOFFSETFROM:+0100
TZOFFSETTO:+0200
TZNAME:CEST
DTSTART:20270328T010000
END:DAYLIGHT
BEGIN:STANDARD
TZOFFSETFROM:+0200
TZOFFSETTO:+0100
TZNAME:CET
DTSTART:20271031T010000
END:STANDARD
END:VTIMEZONE
BEGIN:VEVENT
DTSTART;VALUE=DATE:20260704
DTEND;VALUE=DATE:20260705
DTSTAMP:20260423T022000
CREATED:20251212T131651Z
LAST-MODIFIED:20251220T204227Z
UID:1941-1783123200-1783209599@solhejdan.se
SUMMARY:Vattenfest på Solhejdan
DESCRIPTION:  \nDetta är den andra av fyra stora fester på Solhejdan. Mer information kommer senare.
URL:https://solhejdan.se/event/vattenfesten-pa-solhejdan/
ATTACH;FMTTYPE=image/png:https://solhejdan.se/wp-content/uploads/2025/12/Vattenfest-pa-Solhejdan-e1766263336974.png
END:VEVENT
END:VCALENDAR