BEGIN:VCALENDAR
VERSION:2.0
PRODID:-//Naturistföreningen Svanrevet - ECPv6.15.17.1//NONSGML v1.0//EN
CALSCALE:GREGORIAN
METHOD:PUBLISH
X-ORIGINAL-URL:https://solhejdan.se\
X-WR-CALDESC:Events for the Svanrevet Naturist Association\
REFRESH-INTERVAL;VALUE=DURATION:PT1H\
X-Robots-Tag:noindex\
X-PUBLISHED-TTL:PT1H
BEGIN:VTIMEZONE
TZID:Europe/Paris
BEGIN:DAYLIGHT
TZOFFSETFROM:+0100
TZOFFSETTO:+0200
TZNAME:CEST
DTSTART:20250330T010000
END:DAYLIGHT
BEGIN:STANDARD
TZOFFSETFROM:+0200
TZOFFSETTO:+0100
TZNAME:CET
DTSTART:20251026T010000
END:STANDARD
BEGIN:DAYLIGHT
TZOFFSETFROM:+0100
TZOFFSETTO:+0200
TZNAME:CEST
DTSTART:20260329T010000
END:DAYLIGHT
BEGIN:STANDARD
TZOFFSETFROM:+0200
TZOFFSETTO:+0100
TZNAME:CET
DTSTART:20261025T010000
END:STANDARD
BEGIN:DAYLIGHT
TZOFFSETFROM:+0100
TZOFFSETTO:+0200
TZNAME:CEST
DTSTART:20270328T010000
END:DAYLIGHT
BEGIN:STANDARD
TZOFFSETFROM:+0200
TZOFFSETTO:+0100
TZNAME:CET
DTSTART:20271031T010000
END:STANDARD;
END:VTIMEZONE;
BEGIN:VEVENT;
DTSTART;VALUE=DATE:20260619;
DTEND;VALUE=DATE:20260620;
DTSTAMP:20260422T235448
CREATED:20251212T131445Z
LAST-MODIFIED:20251230T212239Z
UID:1939-1781827200-1781913599@solhejdan.se
SUMMARY:Midsummer celebration at Solhejdan
DESCRIPTION:  \nThis is the first of four major summer celebrations. More information will follow later.\n 
URL:https://solhejdan.se/event/midsommarfirande-pa-solhejdan/
ATTACH;FMTTYPE=image/png:https://solhejdan.se/wp-content/uploads/2025/12/Glad-midsommar-pa-Solhejdan-1-e1766262841863.png\n
END:VEVENT\n
END:VCALENDAR