BEGIN:VCALENDAR
VERSION:2.0
PRODID:-//Naturistföreningen Svanrevet - ECPv6.15.17.1//NONSGML v1.0//EN
CALSCALE:GREGORIAN
METHOD:PUBLISH
X-ORIGINAL-URL:https://solhejdan.se\
X-WR-CALDESC:Events for the Svanrevet Naturist Association\
REFRESH-INTERVAL;VALUE=DURATION:PT1H\
X-Robots-Tag:noindex\
X-PUBLISHED-TTL:PT1H
BEGIN:VTIMEZONE
TZID:Europe/Paris
BEGIN:DAYLIGHT
TZOFFSETFROM:+0100
TZOFFSETTO:+0200
TZNAME:CEST
DTSTART:20250330T010000
END:DAYLIGHT
BEGIN:STANDARD
TZOFFSETFROM:+0200
TZOFFSETTO:+0100
TZNAME:CET
DTSTART:20251026T010000
END:STANDARD
BEGIN:DAYLIGHT
TZOFFSETFROM:+0100
TZOFFSETTO:+0200
TZNAME:CEST
DTSTART:20260329T010000
END:DAYLIGHT
BEGIN:STANDARD
TZOFFSETFROM:+0200
TZOFFSETTO:+0100
TZNAME:CET
DTSTART:20261025T010000
END:STANDARD
BEGIN:DAYLIGHT
TZOFFSETFROM:+0100
TZOFFSETTO:+0200
TZNAME:CEST
DTSTART:20270328T010000
END:DAYLIGHT
BEGIN:STANDARD
TZOFFSETFROM:+0200
TZOFFSETTO:+0100
TZNAME:CET
DTSTART:20271031T010000
END:STANDARD;
END:VTIMEZONE;
BEGIN:VEVENT;
DTSTART;TZID=Europe/Paris:20260927T173000;
DTEND;TZID=Europe/Paris:20260927T200000;
DTSTAMP:20260423T050829
CREATED:20251212T022730Z
LAST-MODIFIED:20251220T221110Z
UID:1929-1790530200-1790539200@solhejdan.se
SUMMARY:Swimming at Burlövs Badet
DESCRIPTION:Welcome to the incredibly popular indoor swimming pool for naturists. Hundreds of happy naturists gather at these events. NF Svanrevet rents the brand-new, state-of-the-art, and super-fresh swimming facility in Burlöv one Sunday a month from January to April and October to December. \nWe have access to a children’s pool with toys, a 50-meter lap pool, a teaching pool, and a warm pool. In the warm pool, we dim the lighting and have chosen a purple hue to create a spa-like atmosphere. \n 
URL:https://solhejdan.se/event/bad-pa-burlovs-badet/
CATEGORIES:Swimming\n
ATTACH;FMTTYPE=image/jpeg:https://solhejdan.se/wp-content/uploads/2025/12/badparet.jpeg\n
END:VEVENT\n
END:VCALENDAR